{
 "currentVersion": 11.4,
 "serviceDescription": "2021 NAIP Imagery for Lincoln County, SD.",
 "name": "NAIPAerial2021",
 "description": "2021 NAIP Imagery for Lincoln County, SD.",
 "extent": {
  "xmin": 666310.2,
  "ymin": 4769576.4,
  "xmax": 714045.6,
  "ymax": 4826525.4,
  "spatialReference": {
   "wkid": 26914,
   "latestWkid": 26914
  }
 },
 "initialExtent": {
  "xmin": 666310.2,
  "ymin": 4769576.4,
  "xmax": 714045.6,
  "ymax": 4826525.4,
  "spatialReference": {
   "wkid": 26914,
   "latestWkid": 26914
  }
 },
 "fullExtent": {
  "xmin": 666310.2,
  "ymin": 4769576.4,
  "xmax": 714045.6,
  "ymax": 4826525.4,
  "spatialReference": {
   "wkid": 26914,
   "latestWkid": 26914
  }
 },
 "sortableFields": "",
 "bandCount": 3,
 "pixelType": "U8",
 "minValues": [
  0,
  0,
  0
 ],
 "maxValues": [
  208,
  201,
  193
 ],
 "meanValues": [
  67.745381858285,
  81.836366142818,
  63.324786324786
 ],
 "stdvValues": [
  41.311196212302,
  46.167961489863,
  36.744628755871
 ],
 "hasMultidimensions": false,
 "pixelSizeX": 0.6000000000000003,
 "pixelSizeY": 0.6,
 "meanPixelSize": 0.6000000000000001,
 "datasetFormat": "MrSID",
 "uncompressedSize": 22654027455,
 "blockWidth": 1024,
 "blockHeight": 128,
 "compressionType": "Wavelet (MG3)",
 "bandNames": [
  "Band_1",
  "Band_2",
  "Band_3"
 ],
 "allowCopy": true,
 "allowAnalysis": true,
 "itemAccess": false,
 "inspectionCapabilities": "",
 "minPixelSize": 0,
 "maxPixelSize": 0,
 "copyrightText": "",
 "serviceDataType": "esriImageServiceDataTypeRGB",
 "serviceSourceType": "esriImageServiceSourceTypeDataset",
 "objectIdField": "",
 "fields": [],
 "capabilities": "Image,Metadata,Mensuration",
 "defaultMosaicMethod": "Center",
 "allowedMosaicMethods": "",
 "sortField": "",
 "sortValue": null,
 "sortAscending": true,
 "mosaicOperator": "First",
 "defaultCompressionQuality": 75,
 "defaultResamplingMethod": "Bilinear",
 "maxImageHeight": 4100,
 "maxImageWidth": 15000,
 "allowRasterFunction": true,
 "rasterFunctionInfos": [
  {
   "name": "None",
   "description": "Make a Raster or Raster Dataset into a Function Raster Dataset.",
   "help": ""
  },
  {
   "name": "RGB Composite",
   "description": "A raster function template.",
   "help": ""
  }
 ],
 "rasterTypeInfos": [
  {
   "name": "Raster Dataset",
   "description": "Supports all ArcGIS Raster Datasets",
   "help": ""
  }
 ],
 "mensurationCapabilities": "Basic",
 "hasHistograms": true,
 "hasColormap": false,
 "hasRasterAttributeTable": false,
 "minScale": 0,
 "maxScale": 0,
 "exportTilesAllowed": false,
 "supportsStatistics": false,
 "supportsAdvancedQueries": false,
 "editFieldsInfo": null,
 "ownershipBasedAccessControlForRasters": null,
 "allowComputeTiePoints": false,
 "useStandardizedQueries": true,
 "advancedQueryCapabilities": {
  "useStandardizedQueries": true,
  "supportsStatistics": false,
  "supportsOrderBy": false,
  "supportsDistinct": false,
  "supportsPagination": false
 },
 "spatialReference": {
  "wkid": 26914,
  "latestWkid": 26914
 }
}
