View In:
ArcGIS JavaScript
ArcGIS Online Map Viewer
ArcGIS Earth
Service Description: NAIP2020
Name: NAIP2020
Description:
Single Fused Map Cache: false
Extent:
XMin: 666372.0
YMin: 4769615.999943247
XMax: 713946.0
YMax: 4826370.000000001
Spatial Reference: 26914
(26914)
LatestVCSWkid(0)
Initial Extent:
XMin: 666372.0
YMin: 4769615.999943247
XMax: 713946.0
YMax: 4826370.000000001
Spatial Reference: 26914
(26914)
LatestVCSWkid(0)
Full Extent:
XMin: 666372.0
YMin: 4769615.999943247
XMax: 713946.0
YMax: 4826370.000000001
Spatial Reference: 26914
(26914)
LatestVCSWkid(0)
Pixel Size X: 0.6
Pixel Size Y: 0.6000000005999986
Band Count: 3
Pixel Type: U8
RasterFunction Infos: {"rasterFunctionInfos": [
{
"name": "2015Composite",
"description": "A raster function template.",
"help": ""
},
{
"name": "None",
"description": "",
"help": ""
}
]}
Mensuration Capabilities: Basic
Inspection Capabilities:
Has Histograms: true
Has Colormap: false
Has Multi Dimensions : false
Rendering Rule:
Min Scale: 0
Max Scale: 0
Copyright Text:
Service Data Type: esriImageServiceDataTypeRGB
Min Values: 0, 0, 0
Max Values: 205, 191, 183
Mean Values: 71.366280672732, 79.718500137855, 60.66652881169
Standard Deviation Values: 44.522702009704, 45.153558384148, 34.972801147838
Object ID Field:
Fields:
None
Default Mosaic Method: Center
Allowed Mosaic Methods:
SortField:
SortValue: null
Mosaic Operator: First
Default Compression Quality: 75
Default Resampling Method: Bilinear
Max Record Count: null
Max Image Height: 4100
Max Image Width: 15000
Max Download Image Count: null
Max Mosaic Image Count: null
Allow Raster Function: true
Allow Copy: true
Allow Analysis: true
Allow Compute TiePoints: false
Supports Statistics: false
Supports Advanced Queries: false
Use StandardizedQueries: true
Raster Type Infos:
Name: Raster Dataset
Description: Supports all ArcGIS Raster Datasets
Help:
Has Raster Attribute Table: false
Edit Fields Info: null
Ownership Based AccessControl For Rasters: null
Child Resources:
Info
Histograms
Statistics
Key Properties
Legend
Raster Function Infos
Supported Operations:
Export Image
Identify
Measure
Compute Histograms
Compute Statistics Histograms
Get Samples
Compute Class Statistics
Query Boundary
Compute Pixel Location
Compute Angles
Validate
Project