View In:
ArcGIS JavaScript
ArcGIS Online Map Viewer
ArcGIS Earth
Service Description: 2021 NAIP Imagery for Lincoln County, SD.
Name: NAIPAerial2021
Description: 2021 NAIP Imagery for Lincoln County, SD.
Single Fused Map Cache: false
Extent:
XMin: 666310.2
YMin: 4769576.4
XMax: 714045.6
YMax: 4826525.4
Spatial Reference: 26914
(26914)
LatestVCSWkid(0)
Initial Extent:
XMin: 666310.2
YMin: 4769576.4
XMax: 714045.6
YMax: 4826525.4
Spatial Reference: 26914
(26914)
LatestVCSWkid(0)
Full Extent:
XMin: 666310.2
YMin: 4769576.4
XMax: 714045.6
YMax: 4826525.4
Spatial Reference: 26914
(26914)
LatestVCSWkid(0)
Pixel Size X: 0.6000000000000003
Pixel Size Y: 0.6
Band Count: 3
Pixel Type: U8
RasterFunction Infos: {"rasterFunctionInfos": [
{
"name": "None",
"description": "Make a Raster or Raster Dataset into a Function Raster Dataset.",
"help": ""
},
{
"name": "RGB Composite",
"description": "A raster function template.",
"help": ""
}
]}
Mensuration Capabilities: Basic
Inspection Capabilities:
Has Histograms: true
Has Colormap: false
Has Multi Dimensions : false
Rendering Rule:
Min Scale: 0
Max Scale: 0
Copyright Text:
Service Data Type: esriImageServiceDataTypeRGB
Min Values: 0, 0, 0
Max Values: 208, 201, 193
Mean Values: 67.745381858285, 81.836366142818, 63.324786324786
Standard Deviation Values: 41.311196212302, 46.167961489863, 36.744628755871
Object ID Field:
Fields:
None
Default Mosaic Method: Center
Allowed Mosaic Methods:
SortField:
SortValue: null
Mosaic Operator: First
Default Compression Quality: 75
Default Resampling Method: Bilinear
Max Record Count: null
Max Image Height: 4100
Max Image Width: 15000
Max Download Image Count: null
Max Mosaic Image Count: null
Allow Raster Function: true
Allow Copy: true
Allow Analysis: true
Allow Compute TiePoints: false
Supports Statistics: false
Supports Advanced Queries: false
Use StandardizedQueries: true
Raster Type Infos:
Name: Raster Dataset
Description: Supports all ArcGIS Raster Datasets
Help:
Has Raster Attribute Table: false
Edit Fields Info: null
Ownership Based AccessControl For Rasters: null
Child Resources:
Info
Histograms
Statistics
Key Properties
Legend
Raster Function Infos
Supported Operations:
Export Image
Identify
Measure
Compute Histograms
Compute Statistics Histograms
Get Samples
Compute Class Statistics
Query Boundary
Compute Pixel Location
Compute Angles
Validate
Project